BEGIN:VCALENDAR
VERSION:2.0
PRODID:-//Bay Music Boosters - ECPv6.15.20//NONSGML v1.0//EN
CALSCALE:GREGORIAN
METHOD:PUBLISH
X-WR-CALNAME:Bay Music Boosters
X-ORIGINAL-URL:https://baymusicboosters.com
X-WR-CALDESC:Events for Bay Music Boosters
REFRESH-INTERVAL;VALUE=DURATION:PT1H
X-Robots-Tag:noindex
X-PUBLISHED-TTL:PT1H
BEGIN:VTIMEZONE
TZID:America/New_York
BEGIN:DAYLIGHT
TZOFFSETFROM:-0500
TZOFFSETTO:-0400
TZNAME:EDT
DTSTART:20240310T070000
END:DAYLIGHT
BEGIN:STANDARD
TZOFFSETFROM:-0400
TZOFFSETTO:-0500
TZNAME:EST
DTSTART:20241103T060000
END:STANDARD
BEGIN:DAYLIGHT
TZOFFSETFROM:-0500
TZOFFSETTO:-0400
TZNAME:EDT
DTSTART:20250309T070000
END:DAYLIGHT
BEGIN:STANDARD
TZOFFSETFROM:-0400
TZOFFSETTO:-0500
TZNAME:EST
DTSTART:20251102T060000
END:STANDARD
BEGIN:DAYLIGHT
TZOFFSETFROM:-0500
TZOFFSETTO:-0400
TZNAME:EDT
DTSTART:20260308T070000
END:DAYLIGHT
BEGIN:STANDARD
TZOFFSETFROM:-0400
TZOFFSETTO:-0500
TZNAME:EST
DTSTART:20261101T060000
END:STANDARD
BEGIN:DAYLIGHT
TZOFFSETFROM:-0500
TZOFFSETTO:-0400
TZNAME:EDT
DTSTART:20270314T070000
END:DAYLIGHT
BEGIN:STANDARD
TZOFFSETFROM:-0400
TZOFFSETTO:-0500
TZNAME:EST
DTSTART:20271107T060000
END:STANDARD
END:VTIMEZONE
BEGIN:VEVENT
DTSTART;TZID=America/New_York:20260225T190000
DTEND;TZID=America/New_York:20260225T203000
DTSTAMP:20260420T111634
CREATED:20250712T033146Z
LAST-MODIFIED:20250712T033146Z
UID:5594-1772046000-1772051400@baymusicboosters.com
SUMMARY:Big Band Bash Concert- BMS & BHS
DESCRIPTION:
URL:https://baymusicboosters.com/event/big-band-bash-concert-bms-bhs/
LOCATION:Bay High School\, 29230 Wolf Rd.\, Bay Village\, OH\, 44140
CATEGORIES:BMS Jazz Band,Jazz Band,Stage Band
END:VEVENT
BEGIN:VEVENT
DTSTART;TZID=America/New_York:20260223T190000
DTEND;TZID=America/New_York:20260223T203000
DTSTAMP:20260420T111634
CREATED:20260110T141054Z
LAST-MODIFIED:20260110T141056Z
UID:6142-1771873200-1771878600@baymusicboosters.com
SUMMARY:BHS Orchestra Concert
DESCRIPTION:
URL:https://baymusicboosters.com/event/bhs-orchestra-concert/
LOCATION:Bay High School Auditorium\, 29230 Wolf Rd.\, Bay Village\, OH\, 44140
CATEGORIES:Orchestra
END:VEVENT
BEGIN:VEVENT
DTSTART;TZID=America/New_York:20260211T190000
DTEND;TZID=America/New_York:20260211T200000
DTSTAMP:20260420T111634
CREATED:20250802T170440Z
LAST-MODIFIED:20250802T170440Z
UID:5685-1770836400-1770840000@baymusicboosters.com
SUMMARY:Bay Music Boosters Meeting
DESCRIPTION:
URL:https://baymusicboosters.com/event/bay-music-boosters-meeting-13/
LOCATION:Bay High School Music Room\, 29230 Wolf Rd.\, Bay Village\, OH\, 44140\, United States
CATEGORIES:Monthly Meetings
ATTACH;FMTTYPE=image/jpeg:https://baymusicboosters.com/wp-content/uploads/2013/07/Bay_Music_Boosters_LOGO_1306_RGB_v02.jpg
END:VEVENT
BEGIN:VEVENT
DTSTART;TZID=America/New_York:20260207T000000
DTEND;TZID=America/New_York:20260207T235959
DTSTAMP:20260420T111634
CREATED:20250825T185709Z
LAST-MODIFIED:20250825T185710Z
UID:5840-1770422400-1770508799@baymusicboosters.com
SUMMARY:OMEA Solo & Ensemble- Choraleers (Time TBD)
DESCRIPTION:Time TBD
URL:https://baymusicboosters.com/event/omea-solo-ensemble-choraleers-time-tbd/
LOCATION:OH
CATEGORIES:BHS Choirs
END:VEVENT
BEGIN:VEVENT
DTSTART;VALUE=DATE:20260207
DTEND;VALUE=DATE:20260208
DTSTAMP:20260420T111634
CREATED:20250712T033004Z
LAST-MODIFIED:20251013T221027Z
UID:5593-1770422400-1770508799@baymusicboosters.com
SUMMARY:High School Solo & Ensemble
DESCRIPTION:Venue and exact time TBA
URL:https://baymusicboosters.com/event/high-school-solo-ensemble/
LOCATION:OH
CATEGORIES:Concert Band,Symphonic Band
END:VEVENT
BEGIN:VEVENT
DTSTART;TZID=America/New_York:20260114T190000
DTEND;TZID=America/New_York:20260114T200000
DTSTAMP:20260420T111634
CREATED:20250802T170342Z
LAST-MODIFIED:20250802T170342Z
UID:5684-1768417200-1768420800@baymusicboosters.com
SUMMARY:Bay Music Boosters Meeting
DESCRIPTION:
URL:https://baymusicboosters.com/event/bay-music-boosters-meeting-12/
LOCATION:Bay High School Music Room\, 29230 Wolf Rd.\, Bay Village\, OH\, 44140\, United States
CATEGORIES:Monthly Meetings
ATTACH;FMTTYPE=image/jpeg:https://baymusicboosters.com/wp-content/uploads/2013/07/Bay_Music_Boosters_LOGO_1306_RGB_v02.jpg
END:VEVENT
BEGIN:VEVENT
DTSTART;TZID=America/New_York:20251216T190000
DTEND;TZID=America/New_York:20251216T203000
DTSTAMP:20260420T111634
CREATED:20250712T032806Z
LAST-MODIFIED:20250712T032806Z
UID:5591-1765911600-1765917000@baymusicboosters.com
SUMMARY:BHS Holiday Band Concert
DESCRIPTION:
URL:https://baymusicboosters.com/event/bhs-holiday-band-concert/
LOCATION:Bay High School\, 29230 Wolf Rd.\, Bay Village\, OH\, 44140
CATEGORIES:Concert Band,Jazz Band,Stage Band,Symphonic Band
END:VEVENT
BEGIN:VEVENT
DTSTART;VALUE=DATE:20251212
DTEND;VALUE=DATE:20251213
DTSTAMP:20260420T111634
CREATED:20250712T032611Z
LAST-MODIFIED:20251013T221100Z
UID:5590-1765497600-1765583999@baymusicboosters.com
SUMMARY:High School Solo & Ensemble Entry Forms Due
DESCRIPTION:
URL:https://baymusicboosters.com/event/high-school-solo-ensemble-entry-forms-due/
LOCATION:Bay High School\, 29230 Wolf Rd.\, Bay Village\, OH\, 44140
CATEGORIES:Concert Band,Symphonic Band
END:VEVENT
BEGIN:VEVENT
DTSTART;TZID=America/New_York:20251211T200000
DTEND;TZID=America/New_York:20251211T210000
DTSTAMP:20260420T111634
CREATED:20251026T174943Z
LAST-MODIFIED:20251026T174944Z
UID:6090-1765483200-1765486800@baymusicboosters.com
SUMMARY:High School Holiday Orchestra Concert
DESCRIPTION:
URL:https://baymusicboosters.com/event/high-school-holiday-orchestra-concert/
LOCATION:Bay High School Auditorium\, 29230 Wolf Rd.\, Bay Village\, OH\, 44140
CATEGORIES:Orchestra
END:VEVENT
BEGIN:VEVENT
DTSTART;TZID=America/New_York:20251211T183000
DTEND;TZID=America/New_York:20251211T193000
DTSTAMP:20260420T111634
CREATED:20251026T174712Z
LAST-MODIFIED:20251026T174714Z
UID:6089-1765477800-1765481400@baymusicboosters.com
SUMMARY:Middle School Holiday Orchestra Concert
DESCRIPTION:
URL:https://baymusicboosters.com/event/middle-school-holiday-orchestra-concert/
LOCATION:Bay High School Auditorium\, 29230 Wolf Rd.\, Bay Village\, OH\, 44140
CATEGORIES:Orchestra
END:VEVENT
BEGIN:VEVENT
DTSTART;TZID=America/New_York:20251210T190000
DTEND;TZID=America/New_York:20251210T210000
DTSTAMP:20260420T111634
CREATED:20250816T152257Z
LAST-MODIFIED:20251119T213251Z
UID:5742-1765393200-1765400400@baymusicboosters.com
SUMMARY:BHS Holiday Choral Concert
DESCRIPTION:Order Tickets
URL:https://baymusicboosters.com/event/bhs-holiday-choral-concert/
LOCATION:Bay High School Auditorium\, 29230 Wolf Rd.\, Bay Village\, OH\, 44140
CATEGORIES:BHS Choirs
END:VEVENT
BEGIN:VEVENT
DTSTART;TZID=America/New_York:20251112T190000
DTEND;TZID=America/New_York:20251112T200000
DTSTAMP:20260420T111634
CREATED:20250802T170253Z
LAST-MODIFIED:20250802T170253Z
UID:5683-1762974000-1762977600@baymusicboosters.com
SUMMARY:Bay Music Boosters Meeting
DESCRIPTION:
URL:https://baymusicboosters.com/event/bay-music-boosters-meeting-11/
LOCATION:Bay High School Music Room\, 29230 Wolf Rd.\, Bay Village\, OH\, 44140\, United States
CATEGORIES:Monthly Meetings
ATTACH;FMTTYPE=image/jpeg:https://baymusicboosters.com/wp-content/uploads/2013/07/Bay_Music_Boosters_LOGO_1306_RGB_v02.jpg
END:VEVENT
BEGIN:VEVENT
DTSTART;TZID=America/New_York:20251105T190000
DTEND;TZID=America/New_York:20251105T200000
DTSTAMP:20260420T111634
CREATED:20251026T174535Z
LAST-MODIFIED:20251026T174822Z
UID:6088-1762369200-1762372800@baymusicboosters.com
SUMMARY:Day for Strings Concert
DESCRIPTION:https://www.bayorchestra.com/news–events/level-up-at-day-for-strings-wednesday-nov-5th
URL:https://baymusicboosters.com/event/day-for-strings-concert/
LOCATION:Bay High School\, 29230 Wolf Rd.\, Bay Village\, OH\, 44140
CATEGORIES:Orchestra
END:VEVENT
BEGIN:VEVENT
DTSTART;TZID=America/New_York:20251031T180000
DTEND;TZID=America/New_York:20251031T220000
DTSTAMP:20260420T111634
CREATED:20250712T032521Z
LAST-MODIFIED:20251029T180907Z
UID:5589-1761933600-1761948000@baymusicboosters.com
SUMMARY:Playoff Game vs. Cloverleaf
DESCRIPTION:Game Information: October 31\, 2025 OHSAA Division IV Football game: Bay will host Cloverleaf at 7:00pm at Bay Memorial Stadium. \n\n\n\nTickets: Tickets can be purchased online at https://www.ohsaa.org/tickets\, select Football\, search “Bay vs. Cloverleaf” or cash/card at the gate. Tickets are $12 adults and $5 students (Valid for K-12 students. May need to verify age at the gate). Children 5 and under are free. \n\n\n\n*This is an OHSAA event. No passes will be accepted\, this includes family passes and student passes. Staff badges are also not accepted. Senior Citizens will need to purchase an adult ticket. \n\n\n\nParking: Parking is free to all spectators. Those fans that hold a Bay Rockets Association family pass can still park in the bus lot. All spots are on a first-come first serve basis. \n\n\n\nStreaming: The game will be streamed at Fan Hudl \n\n\n\nGO ROCKETS!
URL:https://baymusicboosters.com/event/playoff-game-tba/
LOCATION:Bay High School\, 29230 Wolf Rd.\, Bay Village\, OH\, 44140
CATEGORIES:Marching Band
END:VEVENT
BEGIN:VEVENT
DTSTART;TZID=America/New_York:20251028T190000
DTEND;TZID=America/New_York:20251028T210000
DTSTAMP:20260420T111634
CREATED:20250712T032412Z
LAST-MODIFIED:20251023T180110Z
UID:5588-1761678000-1761685200@baymusicboosters.com
SUMMARY:43rd Annual Varsity Concert
DESCRIPTION:Get Tickets
URL:https://baymusicboosters.com/event/43rd-annual-varsity-concert/
LOCATION:Bay High School Auditorium\, 29230 Wolf Rd.\, Bay Village\, OH\, 44140
CATEGORIES:Marching Band
END:VEVENT
BEGIN:VEVENT
DTSTART;TZID=America/New_York:20251027T190000
DTEND;TZID=America/New_York:20251027T210000
DTSTAMP:20260420T111634
CREATED:20250825T191155Z
LAST-MODIFIED:20251023T175840Z
UID:5842-1761591600-1761598800@baymusicboosters.com
SUMMARY:Show Choir Festival
DESCRIPTION:Dear Singers\, Parents\, and Guardians\, \n\n\n\nOn Monday evening\, 10/27\, our show choir will participate in the annual Westlake Show Choir Festival. Our show choir has participated for the last several years. It is a lot of fun and is a very supportive and encouraging environment for all participants. I hope all of you will attend to show your support. Here are the important details: \n\n\n\nLeave 4th Block at 2:20 p.m.Bus leaves no later than 2:40 p.m.Arrive at WHS no later than 3:15 p.m.Stage time to practice from 3:30 to 4:00 p.m.Dinner at Candado at Crocker Park\, from 4:20 to 5:45 p.m.Change and get ready for the show from 6:00 to 6:45 p.m.Assemble in the auditorium at 6:45 p.m.Show starts at 7:00 p.m.Tickets are $8 this year; if parents bring in two canned goods\, they receive $1 off the admission price.Students must stay for the entire show\, but can go home with their parents. Just email me at devon.gess@bayschoolsohio.orgThe order of the show is: \n\n\n\nLBMS Burneson BrigadeBay VillageBerea-MidparkMayfieldNorth RoyaltonRocky RiverStrongsvilleWestlake
URL:https://baymusicboosters.com/event/show-choir-festival-time-tbd/
LOCATION:Westlake High School\, 27830 Hilliard Blvd\, Westlake\, OH\, 44145
CATEGORIES:BHS Choirs
END:VEVENT
BEGIN:VEVENT
DTSTART;TZID=America/New_York:20251024T180000
DTEND;TZID=America/New_York:20251024T220000
DTSTAMP:20260420T111634
CREATED:20250712T032307Z
LAST-MODIFIED:20250712T032307Z
UID:5587-1761328800-1761343200@baymusicboosters.com
SUMMARY:Game v. Rocky River (Senior Night)
DESCRIPTION:
URL:https://baymusicboosters.com/event/game-v-rocky-river-senior-night/
LOCATION:Bay High School\, 29230 Wolf Rd.\, Bay Village\, OH\, 44140
CATEGORIES:Marching Band
END:VEVENT
BEGIN:VEVENT
DTSTART;TZID=America/New_York:20251022T183000
DTEND;TZID=America/New_York:20251022T200000
DTSTAMP:20260420T111634
CREATED:20251013T135634Z
LAST-MODIFIED:20251013T220752Z
UID:6051-1761157800-1761163200@baymusicboosters.com
SUMMARY:Marching Band Practice (note date/time change)
DESCRIPTION:
URL:https://baymusicboosters.com/event/marching-band-practice-note-date-time-change/
LOCATION:Bay High School\, 29230 Wolf Rd.\, Bay Village\, OH\, 44140
CATEGORIES:Marching Band
END:VEVENT
BEGIN:VEVENT
DTSTART;TZID=America/New_York:20251021T183000
DTEND;TZID=America/New_York:20251021T200000
DTSTAMP:20260420T111634
CREATED:20251013T135507Z
LAST-MODIFIED:20251013T221119Z
UID:6050-1761071400-1761076800@baymusicboosters.com
SUMMARY:Marching Band Practice
DESCRIPTION:
URL:https://baymusicboosters.com/event/marching-band-practice-11/
LOCATION:Bay High School\, 29230 Wolf Rd.\, Bay Village\, OH\, 44140
CATEGORIES:Marching Band
END:VEVENT
BEGIN:VEVENT
DTSTART;TZID=America/New_York:20251017T180000
DTEND;TZID=America/New_York:20251017T220000
DTSTAMP:20260420T111634
CREATED:20250712T032227Z
LAST-MODIFIED:20250712T032227Z
UID:5585-1760724000-1760738400@baymusicboosters.com
SUMMARY:Game @ Lakewood
DESCRIPTION:
URL:https://baymusicboosters.com/event/game-lakewood/
LOCATION:Lakewood High School\, 14100 Franklin Blvd\, Lakewood\, OH\, 44107
CATEGORIES:Marching Band
END:VEVENT
BEGIN:VEVENT
DTSTART;TZID=America/New_York:20251016T193000
DTEND;TZID=America/New_York:20251016T213000
DTSTAMP:20260420T111634
CREATED:20250825T185313Z
LAST-MODIFIED:20251014T143300Z
UID:5838-1760643000-1760650200@baymusicboosters.com
SUMMARY:Carmina Burana Performance at Severance Hall- A Capella Choir
DESCRIPTION:More Information & Tickets
URL:https://baymusicboosters.com/event/carmina-burana-performance-at-severance-hall/
LOCATION:Severance Hall\, 11001 Euclid Ave.\, Cleveland\, Ohio\, 44140
CATEGORIES:BHS Choirs
END:VEVENT
BEGIN:VEVENT
DTSTART;TZID=America/New_York:20251016T190000
DTEND;TZID=America/New_York:20251016T210000
DTSTAMP:20260420T111634
CREATED:20251013T135348Z
LAST-MODIFIED:20251013T220641Z
UID:6049-1760641200-1760648400@baymusicboosters.com
SUMMARY:Marching Band Practice
DESCRIPTION:
URL:https://baymusicboosters.com/event/marching-band-practice-10/
LOCATION:Bay High School\, 29230 Wolf Rd.\, Bay Village\, OH\, 44140
CATEGORIES:Marching Band
END:VEVENT
BEGIN:VEVENT
DTSTART;TZID=America/New_York:20251014T190000
DTEND;TZID=America/New_York:20251014T203000
DTSTAMP:20260420T111634
CREATED:20250816T151623Z
LAST-MODIFIED:20250816T152125Z
UID:5740-1760468400-1760473800@baymusicboosters.com
SUMMARY:BHS Fall Choral Concert
DESCRIPTION:
URL:https://baymusicboosters.com/event/bhs-fall-choral-concert/
LOCATION:Bay High School Auditorium\, 29230 Wolf Rd.\, Bay Village\, OH\, 44140
CATEGORIES:BHS Choirs
END:VEVENT
BEGIN:VEVENT
DTSTART;TZID=America/New_York:20251012T190000
DTEND;TZID=America/New_York:20251012T210000
DTSTAMP:20260420T111634
CREATED:20250825T190004Z
LAST-MODIFIED:20250825T190005Z
UID:5841-1760295600-1760302800@baymusicboosters.com
SUMMARY:Fall Concert Rehearsal- Show Choir
DESCRIPTION:
URL:https://baymusicboosters.com/event/fall-concert-rehearsal-show-choir/
LOCATION:Bay High School Auditorium\, 29230 Wolf Rd.\, Bay Village\, OH\, 44140
CATEGORIES:BHS Choirs
END:VEVENT
BEGIN:VEVENT
DTSTART;TZID=America/New_York:20251010T080000
DTEND;TZID=America/New_York:20251010T140000
DTSTAMP:20260420T111634
CREATED:20250825T184630Z
LAST-MODIFIED:20251003T174547Z
UID:5834-1760083200-1760104800@baymusicboosters.com
SUMMARY:Carmina Burana Rehearsal- A Capella Choir
DESCRIPTION:Students will take a bus from BHS to Hudson High School. Permission forms were sent home.
URL:https://baymusicboosters.com/event/carmina-burana-performance-at-severance-hall-rehearsal-a-capella-choir/
LOCATION:Hudson High School\, 2500 Hudson Aurora Rd.\, Hudson\, OH\, 44236
CATEGORIES:BHS Choirs
END:VEVENT
BEGIN:VEVENT
DTSTART;TZID=America/New_York:20251009T174500
DTEND;TZID=America/New_York:20251009T220000
DTSTAMP:20260420T111634
CREATED:20250712T031817Z
LAST-MODIFIED:20250712T031817Z
UID:5584-1760031900-1760047200@baymusicboosters.com
SUMMARY:Game v. North Olmsted
DESCRIPTION:
URL:https://baymusicboosters.com/event/game-v-north-olmsted/
LOCATION:Bay High School\, 29230 Wolf Rd.\, Bay Village\, OH\, 44140
CATEGORIES:Marching Band
END:VEVENT
BEGIN:VEVENT
DTSTART;TZID=America/New_York:20251008T190000
DTEND;TZID=America/New_York:20251008T200000
DTSTAMP:20260420T111634
CREATED:20250802T170158Z
LAST-MODIFIED:20250802T170158Z
UID:5682-1759950000-1759953600@baymusicboosters.com
SUMMARY:Bay Music Boosters Meeting
DESCRIPTION:
URL:https://baymusicboosters.com/event/bay-music-boosters-meeting-10/
LOCATION:Bay High School Music Room\, 29230 Wolf Rd.\, Bay Village\, OH\, 44140\, United States
CATEGORIES:Monthly Meetings
ATTACH;FMTTYPE=image/jpeg:https://baymusicboosters.com/wp-content/uploads/2013/07/Bay_Music_Boosters_LOGO_1306_RGB_v02.jpg
END:VEVENT
BEGIN:VEVENT
DTSTART;TZID=America/New_York:20251007T183000
DTEND;TZID=America/New_York:20251007T200000
DTSTAMP:20260420T111634
CREATED:20250712T023716Z
LAST-MODIFIED:20250712T023716Z
UID:5553-1759861800-1759867200@baymusicboosters.com
SUMMARY:Marching Band Practice
DESCRIPTION:
URL:https://baymusicboosters.com/event/marching-band-practice-8/
LOCATION:Bay High School\, 29230 Wolf Rd.\, Bay Village\, OH\, 44140
CATEGORIES:Marching Band
END:VEVENT
BEGIN:VEVENT
DTSTART;TZID=America/New_York:20251003T170000
DTEND;TZID=America/New_York:20251003T220000
DTSTAMP:20260420T111634
CREATED:20250712T031705Z
LAST-MODIFIED:20250930T012524Z
UID:5583-1759510800-1759528800@baymusicboosters.com
SUMMARY:Homecoming Parade & Game
DESCRIPTION:
URL:https://baymusicboosters.com/event/homecoming-parade-game/
LOCATION:Bay High School\, 29230 Wolf Rd.\, Bay Village\, OH\, 44140
CATEGORIES:Marching Band
END:VEVENT
BEGIN:VEVENT
DTSTART;TZID=America/New_York:20251002T190000
DTEND;TZID=America/New_York:20251002T210000
DTSTAMP:20260420T111634
CREATED:20250712T031556Z
LAST-MODIFIED:20250930T012258Z
UID:5582-1759431600-1759438800@baymusicboosters.com
SUMMARY:Marching Band Practice & Bonfire
DESCRIPTION:
URL:https://baymusicboosters.com/event/marching-band-practice-bonfire/
LOCATION:Bay High School\, 29230 Wolf Rd.\, Bay Village\, OH\, 44140
CATEGORIES:Marching Band
END:VEVENT
END:VCALENDAR