BEGIN:VCALENDAR
VERSION:2.0
PRODID:-//Bay Music Boosters - ECPv6.15.20//NONSGML v1.0//EN
CALSCALE:GREGORIAN
METHOD:PUBLISH
X-ORIGINAL-URL:https://baymusicboosters.com
X-WR-CALDESC:Events for Bay Music Boosters
REFRESH-INTERVAL;VALUE=DURATION:PT1H
X-Robots-Tag:noindex
X-PUBLISHED-TTL:PT1H
BEGIN:VTIMEZONE
TZID:America/New_York
BEGIN:DAYLIGHT
TZOFFSETFROM:-0500
TZOFFSETTO:-0400
TZNAME:EDT
DTSTART:20250309T070000
END:DAYLIGHT
BEGIN:STANDARD
TZOFFSETFROM:-0400
TZOFFSETTO:-0500
TZNAME:EST
DTSTART:20251102T060000
END:STANDARD
BEGIN:DAYLIGHT
TZOFFSETFROM:-0500
TZOFFSETTO:-0400
TZNAME:EDT
DTSTART:20260308T070000
END:DAYLIGHT
BEGIN:STANDARD
TZOFFSETFROM:-0400
TZOFFSETTO:-0500
TZNAME:EST
DTSTART:20261101T060000
END:STANDARD
BEGIN:DAYLIGHT
TZOFFSETFROM:-0500
TZOFFSETTO:-0400
TZNAME:EDT
DTSTART:20270314T070000
END:DAYLIGHT
BEGIN:STANDARD
TZOFFSETFROM:-0400
TZOFFSETTO:-0500
TZNAME:EST
DTSTART:20271107T060000
END:STANDARD
END:VTIMEZONE
BEGIN:VEVENT
DTSTART;TZID=America/New_York:20260301T120000
DTEND;TZID=America/New_York:20260301T140000
DTSTAMP:20260420T101614
CREATED:20260211T144924Z
LAST-MODIFIED:20260211T144924Z
UID:6151-1772366400-1772373600@baymusicboosters.com
SUMMARY:Rockettes Tryout Clinic: Flag Masterclass
DESCRIPTION:Sign Up
URL:https://baymusicboosters.com/event/rockettes-tryout-clinic-flag-masterclass/
LOCATION:OH
CATEGORIES:Rockettes
END:VEVENT
BEGIN:VEVENT
DTSTART;TZID=America/New_York:20260302T190000
DTEND;TZID=America/New_York:20260302T203000
DTSTAMP:20260420T101614
CREATED:20250816T152436Z
LAST-MODIFIED:20250816T152837Z
UID:5743-1772478000-1772483400@baymusicboosters.com
SUMMARY:BHS Winter Choral Concert
DESCRIPTION:
URL:https://baymusicboosters.com/event/bhs-winter-choral-concert/
LOCATION:Bay High School Auditorium\, 29230 Wolf Rd.\, Bay Village\, OH\, 44140
CATEGORIES:BHS Choirs
END:VEVENT
BEGIN:VEVENT
DTSTART;TZID=America/New_York:20260303T190000
DTEND;TZID=America/New_York:20260303T203000
DTSTAMP:20260420T101614
CREATED:20250712T033237Z
LAST-MODIFIED:20250712T033237Z
UID:5595-1772564400-1772569800@baymusicboosters.com
SUMMARY:BHS Band Concert
DESCRIPTION:
URL:https://baymusicboosters.com/event/bhs-band-concert/
LOCATION:Bay High School\, 29230 Wolf Rd.\, Bay Village\, OH\, 44140
CATEGORIES:Concert Band,Symphonic Band
END:VEVENT
BEGIN:VEVENT
DTSTART;TZID=America/New_York:20260306T153000
DTEND;TZID=America/New_York:20260306T190000
DTSTAMP:20260420T101614
CREATED:20250825T184127Z
LAST-MODIFIED:20260306T132450Z
UID:5832-1772811000-1772823600@baymusicboosters.com
SUMMARY:District Ohio Music Educator’s Adjudicated Event: A Capella Choir
DESCRIPTION:Dear A Cappella Singers\, Parents\, and Guardians\, \n\n\n\nThe BHS A Cappella Choir will perform at the Ohio Music Education Association’s Large Group Adjudicated Event on Friday\, March 6. The contest will be held at: \n\n\n\nElyria High School601 Middle Ave.Elyria\, OH 44035 \n\n\n\n \n\n\n\n \n\n\n\n\nPlease be in the choir room at 3:30 p.m.\n\n\n\nPlease wear appropriate concert attire.\n\n\n\nGirls\, to maintain a uniform and professional look\, please refrain from wearing necklaces or bracelets.\n\n\n\nBlack shoes and white socks ONLY!\n\n\n\nThe bus will leave from BHS right at 4:00 p.m.\n\n\n\nWe will arrive at Elyria High School at 4:30 p.m.\n\n\n\nWe will head to the warm-up room at 5:00 p.m.\n\n\n\nOur performance time is 5:20 p.m.\n\n\n\nSight-reading will begin at 5:40 p.m.\n\n\n\nWe will leave from Elyria High School at 6:20 p.m. or sooner if we can!\n\n\n\nWe should arrive at BHS no later than 6:45 p.m./7:00 p.m.\n\n\n\nFood will be available for purchase at the high school.\n\n\n\nBe sure to bring water.\n\n\n\nPlease do not bring anything of value with you.\n\n\n\nYour behavior reflects not only on yourself but also on BHS and the Music Department. Please uphold our standards of conduct at all times.\n\n\n\n\nI am very proud of the A Cappella Choir this year and am eager to perform our contest pieces. The performance is open to the public. It is a required event and is graded. If there is a conflict\, please let me know ASAP. \n\n\n\nThank you\, \n\n\n\nDr. Devon T. Bonds-Gess
URL:https://baymusicboosters.com/event/district-ohio-music-educators-adjudicated-event-bhs-a-capella-choirs-day-time-tbd/
LOCATION:OH
CATEGORIES:BHS Choirs
END:VEVENT
BEGIN:VEVENT
DTSTART;TZID=America/New_York:20260307T083000
DTEND;TZID=America/New_York:20260307T120000
DTSTAMP:20260420T101614
CREATED:20260223T155023Z
LAST-MODIFIED:20260306T132356Z
UID:6173-1772872200-1772884800@baymusicboosters.com
SUMMARY:District Ohio Music Educator’s Adjudicated Event: BHS Choir
DESCRIPTION:Please be in the choir room at 8:30 a..m.\n\n\n\nPlease wear appropriate concert attire. \n\n\n\nGirls\, to maintain a uniform and professional look\, please refrain from wearing necklaces or bracelets. \n\n\n\nBlack shoes and white socks ONLY!\n\n\n\nThe bus will leave from BHS right at 9:00 a.m.\n\n\n\nWe will arrive at Elyria High School at 9:30 a.m.\n\n\n\nWe will head to the warm-up room at 10:00 a.m.\n\n\n\nOur performance time is 10:20 a.m.\n\n\n\nSight-reading will begin at 10:40 a.m.\n\n\n\nWe will leave from Elyria High School at 11:20 a.m. or sooner if we can!\n\n\n\nWe should arrive at BHS no later than 11:45 a.m./12:00 p.m.\n\n\n\nFood will be available for purchase at the high school. \n\n\n\nBe sure to bring water.\n\n\n\nPlease do not bring anything of value with you.\n\n\n\nYour behavior reflects not only on yourself but also on BHS and the Music Department. Please uphold our standards of conduct at all times. 
URL:https://baymusicboosters.com/event/district-ohio-music-educators-adjudicated-event-bhs-choir/
LOCATION:OH
CATEGORIES:BHS Choirs
END:VEVENT
BEGIN:VEVENT
DTSTART;TZID=America/New_York:20260308T120000
DTEND;TZID=America/New_York:20260308T133000
DTSTAMP:20260420T101614
CREATED:20260211T145247Z
LAST-MODIFIED:20260211T145248Z
UID:6154-1772971200-1772976600@baymusicboosters.com
SUMMARY:Rockettes Tryout Clinic: Kick Masterclass
DESCRIPTION:Sign Up
URL:https://baymusicboosters.com/event/rockettes-tryout-clinic-kick-masterclass/
LOCATION:OH
CATEGORIES:Rockettes
END:VEVENT
BEGIN:VEVENT
DTSTART;TZID=America/New_York:20260311T000000
DTEND;TZID=America/New_York:20260311T235959
DTSTAMP:20260420T101614
CREATED:20250802T170523Z
LAST-MODIFIED:20260310T151301Z
UID:5686-1773187200-1773273599@baymusicboosters.com
SUMMARY:CANCELED- Bay Music Boosters Meeting
DESCRIPTION:
URL:https://baymusicboosters.com/event/bay-music-boosters-meeting-14/
LOCATION:Bay High School Music Room\, 29230 Wolf Rd.\, Bay Village\, OH\, 44140\, United States
CATEGORIES:Monthly Meetings
ATTACH;FMTTYPE=image/jpeg:https://baymusicboosters.com/wp-content/uploads/2013/07/Bay_Music_Boosters_LOGO_1306_RGB_v02.jpg
END:VEVENT
BEGIN:VEVENT
DTSTART;TZID=America/New_York:20260315T120000
DTEND;TZID=America/New_York:20260315T133000
DTSTAMP:20260420T101614
CREATED:20260211T145602Z
LAST-MODIFIED:20260211T145603Z
UID:6157-1773576000-1773581400@baymusicboosters.com
SUMMARY:Rockettes Tryout Clinic: Pom Masterclass
DESCRIPTION:Sign Up
URL:https://baymusicboosters.com/event/rockettes-tryout-clinic-pom-masterclass/
LOCATION:OH
CATEGORIES:Rockettes
END:VEVENT
BEGIN:VEVENT
DTSTART;TZID=America/New_York:20260330T153000
DTEND;TZID=America/New_York:20260330T183000
DTSTAMP:20260420T101614
CREATED:20260211T150037Z
LAST-MODIFIED:20260211T150038Z
UID:6158-1774884600-1774895400@baymusicboosters.com
SUMMARY:Rockettes Tryouts: Clinic 1
DESCRIPTION:Sign Up
URL:https://baymusicboosters.com/event/rockettes-tryouts-clinic-1/
LOCATION:OH
CATEGORIES:Rockettes
END:VEVENT
BEGIN:VEVENT
DTSTART;TZID=America/New_York:20260331T153000
DTEND;TZID=America/New_York:20260331T183000
DTSTAMP:20260420T101614
CREATED:20260211T150352Z
LAST-MODIFIED:20260211T150352Z
UID:6159-1774971000-1774981800@baymusicboosters.com
SUMMARY:Rockettes Tryouts: Clinic 2
DESCRIPTION:Sign Up
URL:https://baymusicboosters.com/event/rockettes-tryouts-clinic-2/
LOCATION:Bay High School Gym\, 29230 Wolf Rd.\, Bay Village\, Ohio\, 44140
CATEGORIES:Rockettes
END:VEVENT
BEGIN:VEVENT
DTSTART;TZID=America/New_York:20260331T190000
DTEND;TZID=America/New_York:20260331T210000
DTSTAMP:20260420T101614
CREATED:20250825T185546Z
LAST-MODIFIED:20250825T185547Z
UID:5839-1774983600-1774990800@baymusicboosters.com
SUMMARY:District Choral Concert- A Capella Choir
DESCRIPTION:
URL:https://baymusicboosters.com/event/district-choral-concert-a-capella-choir/
LOCATION:Bay High School Auditorium\, 29230 Wolf Rd.\, Bay Village\, OH\, 44140
CATEGORIES:BHS Choirs
END:VEVENT
BEGIN:VEVENT
DTSTART;TZID=America/New_York:20260415T190000
DTEND;TZID=America/New_York:20260415T200000
DTSTAMP:20260420T101614
CREATED:20250802T170610Z
LAST-MODIFIED:20250807T002102Z
UID:5687-1776279600-1776283200@baymusicboosters.com
SUMMARY:Bay Music Boosters Meeting
DESCRIPTION:Meeting moved back a week due to spring break
URL:https://baymusicboosters.com/event/bay-music-boosters-meeting-15/
LOCATION:Bay High School Music Room\, 29230 Wolf Rd.\, Bay Village\, OH\, 44140\, United States
CATEGORIES:Monthly Meetings
ATTACH;FMTTYPE=image/jpeg:https://baymusicboosters.com/wp-content/uploads/2013/07/Bay_Music_Boosters_LOGO_1306_RGB_v02.jpg
END:VEVENT
BEGIN:VEVENT
DTSTART;TZID=America/New_York:20260425T190000
DTEND;TZID=America/New_York:20260425T210000
DTSTAMP:20260420T101614
CREATED:20250712T033331Z
LAST-MODIFIED:20260326T011122Z
UID:5596-1777143600-1777150800@baymusicboosters.com
SUMMARY:"A Night of Jazz"
DESCRIPTION:GET TICKETS
URL:https://baymusicboosters.com/event/ballroom-blitz/
LOCATION:BAYarts Sullivan Family Auditorium\, 28795 Lake Rd\, Bay Village\, OH\, 44140
CATEGORIES:BHS Choirs,BMS Jazz Band,Jazz Band,Rockettes,Stage Band
END:VEVENT
BEGIN:VEVENT
DTSTART;TZID=America/New_York:20260430T190000
DTEND;TZID=America/New_York:20260430T210000
DTSTAMP:20260420T101614
CREATED:20260420T141556Z
LAST-MODIFIED:20260420T141557Z
UID:6226-1777575600-1777582800@baymusicboosters.com
SUMMARY:BHS Spring Orchestra Concert
DESCRIPTION:
URL:https://baymusicboosters.com/event/bhs-spring-orchestra-concert/
LOCATION:Bay High School Auditorium\, 29230 Wolf Rd.\, Bay Village\, OH\, 44140
END:VEVENT
BEGIN:VEVENT
DTSTART;TZID=America/New_York:20260512T190000
DTEND;TZID=America/New_York:20260512T203000
DTSTAMP:20260420T101614
CREATED:20250712T033423Z
LAST-MODIFIED:20250712T033423Z
UID:5597-1778612400-1778617800@baymusicboosters.com
SUMMARY:Spring Jazz Concert
DESCRIPTION:
URL:https://baymusicboosters.com/event/spring-jazz-concert/
LOCATION:Bay High School\, 29230 Wolf Rd.\, Bay Village\, OH\, 44140
CATEGORIES:Jazz Band,Stage Band
END:VEVENT
BEGIN:VEVENT
DTSTART;TZID=America/New_York:20260513T190000
DTEND;TZID=America/New_York:20260513T200000
DTSTAMP:20260420T101614
CREATED:20250802T170652Z
LAST-MODIFIED:20250802T170652Z
UID:5688-1778698800-1778702400@baymusicboosters.com
SUMMARY:Bay Music Boosters Meeting
DESCRIPTION:
URL:https://baymusicboosters.com/event/bay-music-boosters-meeting-16/
LOCATION:Bay High School Music Room\, 29230 Wolf Rd.\, Bay Village\, OH\, 44140\, United States
CATEGORIES:Monthly Meetings
ATTACH;FMTTYPE=image/jpeg:https://baymusicboosters.com/wp-content/uploads/2013/07/Bay_Music_Boosters_LOGO_1306_RGB_v02.jpg
END:VEVENT
BEGIN:VEVENT
DTSTART;TZID=America/New_York:20260518T183000
DTEND;TZID=America/New_York:20260518T203000
DTSTAMP:20260420T101614
CREATED:20250712T033524Z
LAST-MODIFIED:20260217T161551Z
UID:5598-1779129000-1779136200@baymusicboosters.com
SUMMARY:BHS Spring Band Concert & Awards [Date Changed]
DESCRIPTION:
URL:https://baymusicboosters.com/event/bhs-spring-band-concert-awards/
LOCATION:Bay High School\, 29230 Wolf Rd.\, Bay Village\, OH\, 44140
CATEGORIES:Concert Band,Symphonic Band
END:VEVENT
BEGIN:VEVENT
DTSTART;TZID=America/New_York:20260519T190000
DTEND;TZID=America/New_York:20260519T210000
DTSTAMP:20260420T101614
CREATED:20250816T152602Z
LAST-MODIFIED:20260406T222644Z
UID:5744-1779217200-1779224400@baymusicboosters.com
SUMMARY:BHS Spring Choral Concert (Date Changed)
DESCRIPTION:
URL:https://baymusicboosters.com/event/bhs-spring-choral-concert/
LOCATION:Bay High School Auditorium\, 29230 Wolf Rd.\, Bay Village\, OH\, 44140
CATEGORIES:BHS Choirs
END:VEVENT
BEGIN:VEVENT
DTSTART;TZID=America/New_York:20260525T080000
DTEND;TZID=America/New_York:20260525T100000
DTSTAMP:20260420T101614
CREATED:20250712T033620Z
LAST-MODIFIED:20250712T033620Z
UID:5599-1779696000-1779703200@baymusicboosters.com
SUMMARY:Memorial Day Parade
DESCRIPTION:
URL:https://baymusicboosters.com/event/memorial-day-parade/
LOCATION:OH
CATEGORIES:Marching Band
END:VEVENT
BEGIN:VEVENT
DTSTART;TZID=America/New_York:20260601T180000
DTEND;TZID=America/New_York:20260601T210000
DTSTAMP:20260420T101614
CREATED:20250712T033737Z
LAST-MODIFIED:20250712T033737Z
UID:5600-1780336800-1780347600@baymusicboosters.com
SUMMARY:Commencement Band (9th-11th grade)
DESCRIPTION:
URL:https://baymusicboosters.com/event/commencement-band-9th-11th-grade/
LOCATION:Bay High School Stadium Pavilion\, 29230 Wolf Rd.\, Bay Village\, OH\, 44140
CATEGORIES:Concert Band,Symphonic Band
END:VEVENT
BEGIN:VEVENT
DTSTART;TZID=America/New_York:20260603T153000
DTEND;TZID=America/New_York:20260603T163000
DTSTAMP:20260420T101614
CREATED:20250712T033834Z
LAST-MODIFIED:20250712T033834Z
UID:5601-1780500600-1780504200@baymusicboosters.com
SUMMARY:Field Commander/Squad Leader Try-outs
DESCRIPTION:
URL:https://baymusicboosters.com/event/field-commander-squad-leader-try-outs/
LOCATION:Bay High School Music Room\, 29230 Wolf Rd.\, Bay Village\, OH\, 44140\, United States
CATEGORIES:Marching Band
END:VEVENT
END:VCALENDAR